BEGIN:VCALENDAR
VERSION:2.0
PRODID:-//CHP - ECPv6.15.20//NONSGML v1.0//EN
CALSCALE:GREGORIAN
METHOD:PUBLISH
X-WR-CALNAME:CHP
X-ORIGINAL-URL:https://www.childhelppartnership.org
X-WR-CALDESC:Events for CHP
REFRESH-INTERVAL;VALUE=DURATION:PT1H
X-Robots-Tag:noindex
X-PUBLISHED-TTL:PT1H
BEGIN:VTIMEZONE
TZID:UTC
BEGIN:STANDARD
TZOFFSETFROM:+0000
TZOFFSETTO:+0000
TZNAME:UTC
DTSTART:20220101T000000
END:STANDARD
END:VTIMEZONE
BEGIN:VEVENT
DTSTART;VALUE=DATE:20240401
DTEND;VALUE=DATE:20240402
DTSTAMP:20260421T112439
CREATED:20240318T142528Z
LAST-MODIFIED:20240318T142528Z
UID:10000022-1711929600-1712015999@www.childhelppartnership.org
SUMMARY:Child SAFE Workshop
DESCRIPTION:We will be holding two Keeping Every Child Safe workshops for parents and children in Southampton\, NY. Contact us for more information on our contact page.
URL:https://www.childhelppartnership.org/our-event/child-safe-workshop/
LOCATION:Southampton\, NY
CATEGORIES:Prevention
ORGANIZER;CN="Child Help Partnership":MAILTO:sue@dogriverdesign.com
END:VEVENT
BEGIN:VEVENT
DTSTART;VALUE=DATE:20231115
DTEND;VALUE=DATE:20231117
DTSTAMP:20260421T112439
CREATED:20230929T174655Z
LAST-MODIFIED:20230929T204651Z
UID:10000004-1700006400-1700179199@www.childhelppartnership.org
SUMMARY:Keeping Every Child Safe Workshop for Parents
DESCRIPTION:On November 15th and November 16th we will be holding two Keeping Every Child Safe workshop for parents and children in Southampton\, NY. Contact us for more information on our contact page.
URL:https://www.childhelppartnership.org/our-event/keeping-every-child-safe-workshop-for-parents/
CATEGORIES:Prevention
ORGANIZER;CN="Child Help Partnership":MAILTO:sue@dogriverdesign.com
END:VEVENT
END:VCALENDAR