BEGIN:VCALENDAR
VERSION:2.0
PRODID:-//CHP - ECPv6.15.20//NONSGML v1.0//EN
CALSCALE:GREGORIAN
METHOD:PUBLISH
X-ORIGINAL-URL:https://www.childhelppartnership.org
X-WR-CALDESC:Events for CHP
REFRESH-INTERVAL;VALUE=DURATION:PT1H
X-Robots-Tag:noindex
X-PUBLISHED-TTL:PT1H
BEGIN:VTIMEZONE
TZID:UTC
BEGIN:STANDARD
TZOFFSETFROM:+0000
TZOFFSETTO:+0000
TZNAME:UTC
DTSTART:20220101T000000
END:STANDARD
END:VTIMEZONE
BEGIN:VEVENT
DTSTART;TZID=UTC:20231116T130000
DTEND;TZID=UTC:20231116T150000
DTSTAMP:20260421T094320
CREATED:20231102T193739Z
LAST-MODIFIED:20231102T193739Z
UID:10000012-1700139600-1700146800@www.childhelppartnership.org
SUMMARY:Second SPR Supplemental Training with the Boys and Girls Club of Southern Nevada and Battle Born Academy
DESCRIPTION:The Boys and Girls Club of Southern Nevada and Battle Born Academy will be having their final SPR Supplemental training on Thursday (November 16th) at 1 pm ET. The training will be held by Dr. Elissa Brown and Dr. Robin Goodman and delivered to SPR-trained providers.
URL:https://www.childhelppartnership.org/our-event/second-spr-supplemental-training-with-the-boys-and-girls-club-of-southern-nevada-and-battle-born-academy/
LOCATION:The Boys and Girls Club of Southern Nevada and Battle Born Academy
CATEGORIES:Training/NCHP
END:VEVENT
BEGIN:VEVENT
DTSTART;TZID=UTC:20231115T140000
DTEND;TZID=UTC:20231115T160000
DTSTAMP:20260421T094320
CREATED:20231102T193319Z
LAST-MODIFIED:20231102T193558Z
UID:10000011-1700056800-1700064000@www.childhelppartnership.org
SUMMARY:First SPR Supplemental Training with the Boys and Girls Club of Southern Nevada and Battle Born Academy
DESCRIPTION:The Boys and Girls Club of Southern Nevada and Battle Born Academy will be having their first SPR Supplemental training on Wednesday (November 15th) at 2 pm ET. The training will be held by Dr. Elissa Brown and Dr. Robin Goodman and delivered to SPR-trained providers.
URL:https://www.childhelppartnership.org/our-event/first-spr-supplemental-training-boys-and-girls-club-southern-nevada-and-battle-born-academy/
LOCATION:The Boys and Girls Club of Southern Nevada and Battle Born Academy
CATEGORIES:Training/NCHP
END:VEVENT
END:VCALENDAR